BEGIN:VCALENDAR
VERSION:2.0
PRODID:-//Senior College - ECPv6.15.20//NONSGML v1.0//EN
CALSCALE:GREGORIAN
METHOD:PUBLISH
X-WR-CALNAME:Senior College
X-ORIGINAL-URL:https://www.seniorcollege.utoronto.ca
X-WR-CALDESC:Events for Senior College
REFRESH-INTERVAL;VALUE=DURATION:PT1H
X-Robots-Tag:noindex
X-PUBLISHED-TTL:PT1H
BEGIN:VTIMEZONE
TZID:America/Toronto
BEGIN:DAYLIGHT
TZOFFSETFROM:-0500
TZOFFSETTO:-0400
TZNAME:EDT
DTSTART:20230312T070000
END:DAYLIGHT
BEGIN:STANDARD
TZOFFSETFROM:-0400
TZOFFSETTO:-0500
TZNAME:EST
DTSTART:20231105T060000
END:STANDARD
BEGIN:DAYLIGHT
TZOFFSETFROM:-0500
TZOFFSETTO:-0400
TZNAME:EDT
DTSTART:20240310T070000
END:DAYLIGHT
BEGIN:STANDARD
TZOFFSETFROM:-0400
TZOFFSETTO:-0500
TZNAME:EST
DTSTART:20241103T060000
END:STANDARD
BEGIN:DAYLIGHT
TZOFFSETFROM:-0500
TZOFFSETTO:-0400
TZNAME:EDT
DTSTART:20250309T070000
END:DAYLIGHT
BEGIN:STANDARD
TZOFFSETFROM:-0400
TZOFFSETTO:-0500
TZNAME:EST
DTSTART:20251102T060000
END:STANDARD
END:VTIMEZONE
BEGIN:VEVENT
DTSTART;TZID=America/Toronto:20240708T140000
DTEND;TZID=America/Toronto:20240708T160000
DTSTAMP:20260422T223512
CREATED:20231207T005334Z
LAST-MODIFIED:20231207T040639Z
UID:10001154-1720447200-1720454400@www.seniorcollege.utoronto.ca
SUMMARY:Book Club: July 8\, 2024\, 2-4pm\, - Fellows and External Fellows
DESCRIPTION:July 8\, 2024\, 2-4pm\, – Fellows and External Fellows \nAlex Ross\, The Rest Is Noise: Listening to the Twentieth Century (2007) \nDiscussion Leaders: Linda Hutcheon\, Michael Hutcheon \nHave you ever felt uneasy about (or even alienated by) the directions classical music took in the twentieth century? Well\, then\, this is the book for you. Writing in an accessible and engaging style\, Alex Ross\, the music critic of the New Yorker magazine\, provides the political\, social\, and artistic contexts needed to understand why these composers resisted the musical past to prove that classical music is never a dying art. As Ross himself puts it\, “the narrative goes from Vienna before the First World War to Paris in the ‘20s\, from Hitler’s Germany and Stalin’s Russia to downtown New York in the ‘60s and ‘70s. We follow the rise of mass culture and mass politics\, of dramatic new technologies\, of hot and cold wars\, of experiments\, \nrevolutions\, riots and friendships forged and broken. The end result is not so much a history of 20th-century music as a history of the 20th century through its music.” \nBUT it’s a big book! You may want to read selectively\, if you are short of time or if your historical or musical interests are more focused\, so here is a guide: \n-Part I tells the story of the early 20th century\, from Strauss and Mahler to Schoenberg and Debussy\, with a chapter on jazz and American music. (1-212) \n-Part II tackles music in Stalin’s Russia (Shostakovich\, Prokofiev)\, FDR’s America (Copland\, Korngold–and Hollywood–and the European emigres) and Hitler’s Germany (Hindemith\, Strauss). (214-339) \n-Part III looks at the post-war music of the cold war and after (Messiaen\, Cage\, Carter\, Bernstein\, Britten\, Ligeti\, Berio\, minimalism–and rock). (343-543) \nHappily\, there is a companion music website that provides brief excerpts of some of the music discussed plus embedded videos\, images\, and links to archives\, stories\, and sound files elsewhere on the Internet. https://www.therestisnoise.com/2007/01/the-rest-is-noise-audio-guide-for-ipad.html (Available in all formats; 543 pages plus notes) \nThe link to register is https://forms.office.com/r/ettFrRHpCS \nThe deadline to register is the Monday morning the day of the event at 8 am. The Zoom link will be sent to registrants only. \nIf you have any questions\, please contact the organizer – Linda Hutcheon at l.hutcheon@utoronto.ca.
URL:https://www.seniorcollege.utoronto.ca/event/book-club-july-8-2024-2-4pm-fellows-and-external-fellows/
LOCATION:Zoom
CATEGORIES:Book Club
END:VEVENT
END:VCALENDAR