BEGIN:VCALENDAR
VERSION:2.0
PRODID:-//Senior College - ECPv6.15.20//NONSGML v1.0//EN
CALSCALE:GREGORIAN
METHOD:PUBLISH
X-WR-CALNAME:Senior College
X-ORIGINAL-URL:https://www.seniorcollege.utoronto.ca
X-WR-CALDESC:Events for Senior College
REFRESH-INTERVAL;VALUE=DURATION:PT1H
X-Robots-Tag:noindex
X-PUBLISHED-TTL:PT1H
BEGIN:VTIMEZONE
TZID:America/Toronto
BEGIN:DAYLIGHT
TZOFFSETFROM:-0500
TZOFFSETTO:-0400
TZNAME:EDT
DTSTART:20250309T070000
END:DAYLIGHT
BEGIN:STANDARD
TZOFFSETFROM:-0400
TZOFFSETTO:-0500
TZNAME:EST
DTSTART:20251102T060000
END:STANDARD
BEGIN:DAYLIGHT
TZOFFSETFROM:-0500
TZOFFSETTO:-0400
TZNAME:EDT
DTSTART:20260308T070000
END:DAYLIGHT
BEGIN:STANDARD
TZOFFSETFROM:-0400
TZOFFSETTO:-0500
TZNAME:EST
DTSTART:20261101T060000
END:STANDARD
BEGIN:DAYLIGHT
TZOFFSETFROM:-0500
TZOFFSETTO:-0400
TZNAME:EDT
DTSTART:20270314T070000
END:DAYLIGHT
BEGIN:STANDARD
TZOFFSETFROM:-0400
TZOFFSETTO:-0500
TZNAME:EST
DTSTART:20271107T060000
END:STANDARD
END:VTIMEZONE
BEGIN:VEVENT
DTSTART;TZID=America/Toronto:20260504T140000
DTEND;TZID=America/Toronto:20260504T160000
DTSTAMP:20260420T074156
CREATED:20250918T203056Z
LAST-MODIFIED:20260409T135558Z
UID:10001362-1777903200-1777910400@www.seniorcollege.utoronto.ca
SUMMARY:Book Club: May 4\, 2026\, 2-4pm\, - Fellows and External Fellows - Zoom only event
DESCRIPTION:May 4\, 2026\, 2-4 pm – Fellows and External Fellows \nSilent Spring by Rachel Carson (1962) \nDiscussion Leader: Sara Shettleworth \nPublished only 63 years ago\, Silent Spring already qualifies as a classic. As an accessible popular account of the damage being to the environment by substances such as the then-common pesticide DDT\, it was a wakeup call for government control of the chemical industry. It had a huge impact\, helping to galvanize the then-nascent environmental movement. We are now seeing the benefits of actions inspired by the information in this book in such developments as the ban on DDT and the resulting return of bald eagles and other of DDT’s victims. Written by a scientist who was also a clear and compelling writer. \nAvailable in many editions and formats. For those who do not already have a copy\, the 2002 40th Anniversary Edition is recommended. At 400 pages\, it includes an illuminating 19 page introduction by Carson’s biographer\, Linda Lear\, and an afterword by noted ecologist E.O. Wilson\, as well as 77 pages of references and notes. Available as a $23.99 paperback and all other formats. TPL 20 + copies. \nFor additional background\, even part of the two-hour PBS “American Experience” documentary “Rachel Carson” is very worth watching for vivid illustrations of the opposition Carson faced and the instant impact her book had https://www.youtube.com/watch?v=mFDh9c34XX4. \nThe link to register is https://forms.office.com/r/bWcpK7a6nP \nThe deadline to register is the Monday morning the day of the event at 8 am. The Zoom link will be sent to registrants only. \nIf you have any questions\, please contact the organizer\, Mary Jane Ashley at maryjane.ashley@utoronto.ca.
URL:https://www.seniorcollege.utoronto.ca/event/book-club-may-4-2025-2-4pm-fellows-and-external-fellows-zoom-only-event/
CATEGORIES:Book Club
END:VEVENT
END:VCALENDAR