BEGIN:VCALENDAR
VERSION:2.0
PRODID:-//Senior College - ECPv6.15.20//NONSGML v1.0//EN
CALSCALE:GREGORIAN
METHOD:PUBLISH
X-WR-CALNAME:Senior College
X-ORIGINAL-URL:https://www.seniorcollege.utoronto.ca
X-WR-CALDESC:Events for Senior College
REFRESH-INTERVAL;VALUE=DURATION:PT1H
X-Robots-Tag:noindex
X-PUBLISHED-TTL:PT1H
BEGIN:VTIMEZONE
TZID:America/Toronto
BEGIN:DAYLIGHT
TZOFFSETFROM:-0500
TZOFFSETTO:-0400
TZNAME:EDT
DTSTART:20220313T070000
END:DAYLIGHT
BEGIN:STANDARD
TZOFFSETFROM:-0400
TZOFFSETTO:-0500
TZNAME:EST
DTSTART:20221106T060000
END:STANDARD
BEGIN:DAYLIGHT
TZOFFSETFROM:-0500
TZOFFSETTO:-0400
TZNAME:EDT
DTSTART:20230312T070000
END:DAYLIGHT
BEGIN:STANDARD
TZOFFSETFROM:-0400
TZOFFSETTO:-0500
TZNAME:EST
DTSTART:20231105T060000
END:STANDARD
BEGIN:DAYLIGHT
TZOFFSETFROM:-0500
TZOFFSETTO:-0400
TZNAME:EDT
DTSTART:20240310T070000
END:DAYLIGHT
BEGIN:STANDARD
TZOFFSETFROM:-0400
TZOFFSETTO:-0500
TZNAME:EST
DTSTART:20241103T060000
END:STANDARD
END:VTIMEZONE
BEGIN:VEVENT
DTSTART;TZID=America/Toronto:20230605T140000
DTEND;TZID=America/Toronto:20230605T160000
DTSTAMP:20260423T170624
CREATED:20220810T190337Z
LAST-MODIFIED:20230601T145244Z
UID:10000811-1685973600-1685980800@www.seniorcollege.utoronto.ca
SUMMARY:SC Book Club June 5\, 2023\, at 2-4pm – Fellows & External Fellows Only - Zoom Only
DESCRIPTION:June 5\, 2023\, 2-4pm\, – Fellows and External Fellows  \nSteven Johnson\, The Ghost Map: The Story of London’s Most Terrifying Epidemic – and How It Changed Science\, Cities\, and the Modern World (2006) \nDiscussion Leader: William Logan \nThe Ghost Map is a gripping multi disciplinary account of London’s cholera epidemic in the 1850s and how one simple public health measure – removing a public pump handle – halted this water-borne disease in one neighbourhood. It provides a graphic description of the state of the sanitary conditions in London in the 1850s\, the beginnings of Public Health and epidemiology\, and the conditions like large scale farming and improved transportation that supported the growth of large cities in general and how densification of people gave rise to potential for pathogenic spread of diseases. Particularly before germ theory was accepted\, public health measures based on wrong ideas could cause more death and disease. We can appreciate how much better lives are now because of public health policies but realize that public health organizations are not infallible particularly when not based on solid empirical findings and undermined by superstition. This book was written long before Covid\, but one can certainly ask whether this is still true today. \nAlthough the current wisdom was that cholera was a miasmic disease\, i.e. due to “bad air”\, Dr John Snow published work indicating that the disease was due to ingestion of something which was probably water borne. It was not well accepted. Several years later he was living in Soho in London when there was a neighbourhood outbreak of cholera. He noted a high concentration around a particular pump and did more footwork to document the high correlation of death and disease with where people got their water (creating the “ghost map” of the title). This led to removal of the pump handle: one of the earliest examples of public health measures by a municipality. Snow’s discovery is an example of convergence of ability and opportunity which Malcolm Gladwell would say is the basis for most extraordinary human accomplishments. \n(available in print\, audiobook\, e-book\, 260 pp with 40 pp notes) \nLink to register: https://forms.office.com/r/1h1dwcq4GW \nThe deadline to register is the morning of the the event before 8:00am. The Zoom link will be sent to registrants only.   \nIf you have any questions\, please contact the organizer – Linda Hutcheon at l.hutcheon@utoronto.ca. 
URL:https://www.seniorcollege.utoronto.ca/event/sc-book-club-june-5-2023-at-2-4pm-fellows-external-fellows-only-zoom-only/
LOCATION:Zoom
CATEGORIES:Book Club
END:VEVENT
BEGIN:VEVENT
DTSTART;TZID=America/Toronto:20230607T160000
DTEND;TZID=America/Toronto:20230607T160000
DTSTAMP:20260423T170624
CREATED:20230426T184014Z
LAST-MODIFIED:20230426T184014Z
UID:10000976-1686153600-1686153600@www.seniorcollege.utoronto.ca
SUMMARY:Summer Wednesday Talk: June 7\, 2023\, 2-4pm - Zoom only. Speaker: Katherine Corcoran  Title: “In the Mouth of the Wolf: A Murder\, A Cover-up\, and the True Cost of Silencing the Press”
DESCRIPTION:June 7\, 2023 \nSpeaker: Katherine Corcoran \nTitle: “In the Mouth of the Wolf: A Murder\, A Cover-up\, and the True Cost of Silencing the Press” \nAbstract: Katherine Corcoran will discuss her investigations as Associated Press Mexico bureau chief that led to her recently published book\, In the Mouth of the Wolf: A Murder\, A Cover-up\, and the True Cost of Silencing the Press. It began with the murder of Regina Martinez\, a Mexican journalist well-known for writing about government corruption. Corcoran travelled to Martinez’ home state of Veracruz to uncover what led to her killing. Corcoran’s work illustrates how silencing the free press—by the danger of murder—threatens basic protections and the rule of law across the globe. \nBio: Katherine Corcoran is a former Associated Press bureau chief for Mexico and Central America. She has been an Alicia Patterson fellow\, the Hewlett Fellow for Public Policy at the Kellogg Institute at the University of Notre Dame\, and a Logan Nonfiction Program fellow. At the AP\, she led an award-winning team that broke major stories about cartel and state violence and abuse of authority in Mexico and Central America. Her columns about Mexican politics and press freedom have appeared in the Washington Post\, the Houston Chronicle\, and Univision Online\, among other publications. She was codirector of Cronkite Noticias\, the bilingual reporting program at Arizona State University’s Walter Cronkite School of Journalism and Mass Communication\, and is co-leader of MasterLAB\, an investigative editor training program in Mexico City. \nLink to register: https://forms.office.com/r/a8myiKPBX0 \nThe deadline to register is the morning of the the event before 8:00am. The Zoom link will be sent to registrants only.   \nIf you have any questions\, please contact the organizer – Linda Hutcheon at l.hutcheon@utoronto.ca. 
URL:https://www.seniorcollege.utoronto.ca/event/summer-wednesday-talk-june-7-2023-2-4pm-zoom-only-speaker-katherine-corcoran-title-in-the-mouth-of-the-wolf-a-murder-a-cover-up-and-the-true-cost-of-silencing-the-press/
LOCATION:Zoom
END:VEVENT
END:VCALENDAR